BEGIN:VCALENDAR
VERSION:2.0
PRODID:-//Hudson Valley Wine Magazine - ECPv6.15.20//NONSGML v1.0//EN
CALSCALE:GREGORIAN
METHOD:PUBLISH
X-WR-CALNAME:Hudson Valley Wine Magazine
X-ORIGINAL-URL:https://hvwinemag.com
X-WR-CALDESC:Events for Hudson Valley Wine Magazine
REFRESH-INTERVAL;VALUE=DURATION:PT1H
X-Robots-Tag:noindex
X-PUBLISHED-TTL:PT1H
BEGIN:VTIMEZONE
TZID:America/New_York
BEGIN:DAYLIGHT
TZOFFSETFROM:-0500
TZOFFSETTO:-0400
TZNAME:EDT
DTSTART:20250309T070000
END:DAYLIGHT
BEGIN:STANDARD
TZOFFSETFROM:-0400
TZOFFSETTO:-0500
TZNAME:EST
DTSTART:20251102T060000
END:STANDARD
BEGIN:DAYLIGHT
TZOFFSETFROM:-0500
TZOFFSETTO:-0400
TZNAME:EDT
DTSTART:20260308T070000
END:DAYLIGHT
BEGIN:STANDARD
TZOFFSETFROM:-0400
TZOFFSETTO:-0500
TZNAME:EST
DTSTART:20261101T060000
END:STANDARD
BEGIN:DAYLIGHT
TZOFFSETFROM:-0500
TZOFFSETTO:-0400
TZNAME:EDT
DTSTART:20270314T070000
END:DAYLIGHT
BEGIN:STANDARD
TZOFFSETFROM:-0400
TZOFFSETTO:-0500
TZNAME:EST
DTSTART:20271107T060000
END:STANDARD
END:VTIMEZONE
BEGIN:VEVENT
DTSTART;TZID=America/New_York:20260418T110000
DTEND;TZID=America/New_York:20260419T170000
DTSTAMP:20260423T074102
CREATED:20260331T145925Z
LAST-MODIFIED:20260331T161034Z
UID:16192-1776510000-1776618000@hvwinemag.com
SUMMARY:Earth Day at the Wineries
DESCRIPTION:Celebrate the season and the spirit of Earth Day with a weekend on the Shawangunk Wine Trail. Explore the Hudson Valley as vineyards come to life in spring\, enjoy scenic views\, and experience a self-guided day of wine tasting. \nYour ticket includes tasting flights at all 5 wineries on your chosen itinerary\, along with a relaxed\, choose-your-own-pace experience across the region. \n200+ tickets already sold — tickets are $30 and going fast.
URL:https://hvwinemag.com/event/earth-day-weekend/
LOCATION:Shawangunk Wine Trail Wineries
CATEGORIES:Featured
ATTACH;FMTTYPE=image/jpeg:https://hvwinemag.com/wp-content/uploads/2026/03/HVWM-E-News-Earth-Day-Ad-450x237-copy.jpg
END:VEVENT
END:VCALENDAR