BEGIN:VCALENDAR
VERSION:2.0
PRODID:-//Hudson Valley Wine Magazine - ECPv6.15.20//NONSGML v1.0//EN
CALSCALE:GREGORIAN
METHOD:PUBLISH
X-ORIGINAL-URL:https://hvwinemag.com
X-WR-CALDESC:Events for Hudson Valley Wine Magazine
REFRESH-INTERVAL;VALUE=DURATION:PT1H
X-Robots-Tag:noindex
X-PUBLISHED-TTL:PT1H
BEGIN:VTIMEZONE
TZID:America/New_York
BEGIN:DAYLIGHT
TZOFFSETFROM:-0500
TZOFFSETTO:-0400
TZNAME:EDT
DTSTART:20210314T070000
END:DAYLIGHT
BEGIN:STANDARD
TZOFFSETFROM:-0400
TZOFFSETTO:-0500
TZNAME:EST
DTSTART:20211107T060000
END:STANDARD
BEGIN:DAYLIGHT
TZOFFSETFROM:-0500
TZOFFSETTO:-0400
TZNAME:EDT
DTSTART:20220313T070000
END:DAYLIGHT
BEGIN:STANDARD
TZOFFSETFROM:-0400
TZOFFSETTO:-0500
TZNAME:EST
DTSTART:20221106T060000
END:STANDARD
BEGIN:DAYLIGHT
TZOFFSETFROM:-0500
TZOFFSETTO:-0400
TZNAME:EDT
DTSTART:20230312T070000
END:DAYLIGHT
BEGIN:STANDARD
TZOFFSETFROM:-0400
TZOFFSETTO:-0500
TZNAME:EST
DTSTART:20231105T060000
END:STANDARD
END:VTIMEZONE
BEGIN:VEVENT
DTSTART;TZID=America/New_York:20221008T110000
DTEND;TZID=America/New_York:20221010T170000
DTSTAMP:20260422T073238
CREATED:20220924T160430Z
LAST-MODIFIED:20220924T160430Z
UID:12790-1665226800-1665421200@hvwinemag.com
SUMMARY:Oktoberfest at Brooklyn Cider House
DESCRIPTION:
URL:https://hvwinemag.com/event/oktoberfest-at-brooklyn-cider-house/
LOCATION:Twin Star Orchards\, 155 N Ohioville Rd\, New Paltz\, New York\, 12561
END:VEVENT
BEGIN:VEVENT
DTSTART;TZID=America/New_York:20221010T110000
DTEND;TZID=America/New_York:20221010T170000
DTSTAMP:20260422T073238
CREATED:20220924T160239Z
LAST-MODIFIED:20220924T160248Z
UID:12788-1665399600-1665421200@hvwinemag.com
SUMMARY:Fall Harvest Festival at Treasury Cider
DESCRIPTION:
URL:https://hvwinemag.com/event/fall-harvest-festival-at-treasury-cider/
LOCATION:Fishkill Farms\, 9 Fishkill Farm Rd.\, Hopewell Junction\, NY\, 12533
END:VEVENT
END:VCALENDAR