BEGIN:VCALENDAR
VERSION:2.0
PRODID:-//Hudson Valley Wine Magazine - ECPv6.15.20//NONSGML v1.0//EN
CALSCALE:GREGORIAN
METHOD:PUBLISH
X-WR-CALNAME:Hudson Valley Wine Magazine
X-ORIGINAL-URL:https://hvwinemag.com
X-WR-CALDESC:Events for Hudson Valley Wine Magazine
REFRESH-INTERVAL;VALUE=DURATION:PT1H
X-Robots-Tag:noindex
X-PUBLISHED-TTL:PT1H
BEGIN:VTIMEZONE
TZID:America/New_York
BEGIN:DAYLIGHT
TZOFFSETFROM:-0500
TZOFFSETTO:-0400
TZNAME:EDT
DTSTART:20190310T070000
END:DAYLIGHT
BEGIN:STANDARD
TZOFFSETFROM:-0400
TZOFFSETTO:-0500
TZNAME:EST
DTSTART:20191103T060000
END:STANDARD
BEGIN:DAYLIGHT
TZOFFSETFROM:-0500
TZOFFSETTO:-0400
TZNAME:EDT
DTSTART:20200308T070000
END:DAYLIGHT
BEGIN:STANDARD
TZOFFSETFROM:-0400
TZOFFSETTO:-0500
TZNAME:EST
DTSTART:20201101T060000
END:STANDARD
BEGIN:DAYLIGHT
TZOFFSETFROM:-0500
TZOFFSETTO:-0400
TZNAME:EDT
DTSTART:20210314T070000
END:DAYLIGHT
BEGIN:STANDARD
TZOFFSETFROM:-0400
TZOFFSETTO:-0500
TZNAME:EST
DTSTART:20211107T060000
END:STANDARD
END:VTIMEZONE
BEGIN:VEVENT
DTSTART;TZID=America/New_York:20200214T160000
DTEND;TZID=America/New_York:20200216T180000
DTSTAMP:20260422T110614
CREATED:20200125T151828Z
LAST-MODIFIED:20200131T182800Z
UID:8517-1581696000-1581876000@hvwinemag.com
SUMMARY:Valentine's Day Wine & Dessert Pairing
DESCRIPTION:Enjoy three desserts served on a customized Valentine’s Day board to take home\, along with three wine pairings from Nostrano Vineyards! \nSelect a timeframe and enjoy reserved seating at The Tasting Room! Dessert Trio thoughtfully selected by Newburgh Flour Shop including Black Forest Petite Gateau\, Baked Custard Tart\, and Passion Fruit and Lime Torte paired with three Nostrano Vineyards Estate Wines. \nLive Jazz Guitarist Greg Wachala on Saturday & Sunday. \nChoose your session:\nFriday 4pm; 5pm; 6pm\nSaturday: 12pm; 2pm; 4pm\nSunday: 12pm; 2pm; 4pm
URL:https://hvwinemag.com/event/valentines-dessert-wine-pairing-at-nostrano-vineyards/
LOCATION:Nostrano Vineyards\, 14 Gala Lane\, Milton\, NY\, 12547
ATTACH;FMTTYPE=image/jpeg:https://hvwinemag.com/wp-content/uploads/2020/01/Wine-and-dessert-pairing-450x237-web.jpg
END:VEVENT
BEGIN:VEVENT
DTSTART;TZID=America/New_York:20200216T113000
DTEND;TZID=America/New_York:20200216T163000
DTSTAMP:20260422T110614
CREATED:20200106T172933Z
LAST-MODIFIED:20200106T172933Z
UID:8340-1581852600-1581870600@hvwinemag.com
SUMMARY:Sweet & Sinful Cupcake & Wine Pairing at Robibero Winery
DESCRIPTION:Celebrate Valentine’s Day weekend and come discover the romance of pairing wine with some of life’s greatest pleasures. Indulge yourself with cupcakes and wine in sinful combinations\, featuring cupcakes from The Cake Artist. \nFee includes a seated wine and cupcake pairing (3 wines paired with 3 mini cupcakes) and a tasting of 3 additional wines at the tasting bar plus a logo wine glass. \nSeatings are at 11:30am\, 12:45pm\, 2:00pm\, 3:15pm\, and 4:30pm.
URL:https://hvwinemag.com/event/sweet-sinful-cupcake-wine-pairing-at-robibero-winery-4/
LOCATION:Robibero Winery\, 714 Albany Post Rd\, New Paltz\, NY\, 12561
END:VEVENT
END:VCALENDAR