BEGIN:VCALENDAR
VERSION:2.0
PRODID:-//Hudson Valley Wine Magazine - ECPv6.15.20//NONSGML v1.0//EN
CALSCALE:GREGORIAN
METHOD:PUBLISH
X-ORIGINAL-URL:https://hvwinemag.com
X-WR-CALDESC:Events for Hudson Valley Wine Magazine
REFRESH-INTERVAL;VALUE=DURATION:PT1H
X-Robots-Tag:noindex
X-PUBLISHED-TTL:PT1H
BEGIN:VTIMEZONE
TZID:America/New_York
BEGIN:DAYLIGHT
TZOFFSETFROM:-0500
TZOFFSETTO:-0400
TZNAME:EDT
DTSTART:20180311T070000
END:DAYLIGHT
BEGIN:STANDARD
TZOFFSETFROM:-0400
TZOFFSETTO:-0500
TZNAME:EST
DTSTART:20181104T060000
END:STANDARD
BEGIN:DAYLIGHT
TZOFFSETFROM:-0500
TZOFFSETTO:-0400
TZNAME:EDT
DTSTART:20190310T070000
END:DAYLIGHT
BEGIN:STANDARD
TZOFFSETFROM:-0400
TZOFFSETTO:-0500
TZNAME:EST
DTSTART:20191103T060000
END:STANDARD
BEGIN:DAYLIGHT
TZOFFSETFROM:-0500
TZOFFSETTO:-0400
TZNAME:EDT
DTSTART:20200308T070000
END:DAYLIGHT
BEGIN:STANDARD
TZOFFSETFROM:-0400
TZOFFSETTO:-0500
TZNAME:EST
DTSTART:20201101T060000
END:STANDARD
END:VTIMEZONE
BEGIN:VEVENT
DTSTART;TZID=America/New_York:20191207T100000
DTEND;TZID=America/New_York:20191208T170000
DTSTAMP:20260423T071349
CREATED:20190905T032647Z
LAST-MODIFIED:20191205T224034Z
UID:6908-1575712800-1575824400@hvwinemag.com
SUMMARY:Wreath Fineries at the Wineries
DESCRIPTION:Jump into the holiday spirit and do your holiday shopping at Wreath Fineries at the Wineries\, the Shawangunk Wine Trail’s memorable holiday event! \nThe event begins when you check-in at your starting winery where you’ll receive a souvenir wine glass\, a grapevine wreath\, and a Shawangunk Wine Trail ornament. Then you’ll travel along the Wine Trail\, receiving a wine tasting and a beautiful ornament to decorate your wreath from each winery you visit. \nDiscounted weekend and Saturday Only or Sunday Only tickets include wine tastings at all 15 member wineries\, a grapevine wreath\, a tasting glass\, an SWT Ornament\, and an ornament from each winery. Designated Driver Ticket excludes a tasting glass and wine tastings. All Designated Drivers will receive a non-alcoholic beverage at each member winery\, a grapevine wreath\, an SWT Ornament\, and an ornament from each winery. \nFee varies. Other weekend dates include: Dec 14–15.
URL:https://hvwinemag.com/event/wreathe-fineries-at-the-wineries/
LOCATION:Shawangunk Wine Trail Wineries
ATTACH;FMTTYPE=image/jpeg:https://hvwinemag.com/wp-content/uploads/2019/07/WF-Digital-Ad_450x237_lp-copy.jpg
END:VEVENT
BEGIN:VEVENT
DTSTART;TZID=America/New_York:20191207T120000
DTEND;TZID=America/New_York:20191207T170000
DTSTAMP:20260423T071349
CREATED:20191114T202116Z
LAST-MODIFIED:20191114T202116Z
UID:8032-1575720000-1575738000@hvwinemag.com
SUMMARY:10th Annual Grand Portfolio Tasting at Millbrook
DESCRIPTION:To kick off the holiday season\, Millbrook Vineyards & Winery is opening up their entire portfolio as well as a few wines from Williams Selyem and Villa Pillo for a special wine tasting event. \nCall for reservations: 845-677-8383 x 21 \nClub members: $50 pp + tax\nRegular price: $60 pp + tax
URL:https://hvwinemag.com/event/10th-annual-grand-portfolio-tasting-at-millbrook/
LOCATION:Millbrook Vineyards & Winery\, 26 Wing Rd\, MILLBROOK\, NY\, 12545
END:VEVENT
BEGIN:VEVENT
DTSTART;TZID=America/New_York:20191207T190000
DTEND;TZID=America/New_York:20191207T190000
DTSTAMP:20260423T071349
CREATED:20191114T001708Z
LAST-MODIFIED:20191114T001708Z
UID:8010-1575745200-1575745200@hvwinemag.com
SUMMARY:Murder Mystery Dinner at Brotherhood Winery
DESCRIPTION:Merry turns to murder on the set of Kringle’s Variety Hour Christmas Special. Join Santa and his guests for a jingle bell rockin’ night of holiday cheer\, Yuletide hilarity and a ho-ho-ho-homicide. A Dark Comedy Mystery Dinner. Only 160 tickets available! \nTicket includes dinner\, show and open wine bar. \n 
URL:https://hvwinemag.com/event/murder-mystery-dinner-at-brotherhood-winery/
LOCATION:Brotherhood Winery\, 100 Brotherhood Plaza Drive\, Washingtonville\, NY\, 10992
END:VEVENT
END:VCALENDAR