BEGIN:VCALENDAR
VERSION:2.0
PRODID:-//Hudson Valley Wine Magazine - ECPv6.15.20//NONSGML v1.0//EN
CALSCALE:GREGORIAN
METHOD:PUBLISH
X-ORIGINAL-URL:https://hvwinemag.com
X-WR-CALDESC:Events for Hudson Valley Wine Magazine
REFRESH-INTERVAL;VALUE=DURATION:PT1H
X-Robots-Tag:noindex
X-PUBLISHED-TTL:PT1H
BEGIN:VTIMEZONE
TZID:America/New_York
BEGIN:DAYLIGHT
TZOFFSETFROM:-0500
TZOFFSETTO:-0400
TZNAME:EDT
DTSTART:20180311T070000
END:DAYLIGHT
BEGIN:STANDARD
TZOFFSETFROM:-0400
TZOFFSETTO:-0500
TZNAME:EST
DTSTART:20181104T060000
END:STANDARD
BEGIN:DAYLIGHT
TZOFFSETFROM:-0500
TZOFFSETTO:-0400
TZNAME:EDT
DTSTART:20190310T070000
END:DAYLIGHT
BEGIN:STANDARD
TZOFFSETFROM:-0400
TZOFFSETTO:-0500
TZNAME:EST
DTSTART:20191103T060000
END:STANDARD
BEGIN:DAYLIGHT
TZOFFSETFROM:-0500
TZOFFSETTO:-0400
TZNAME:EDT
DTSTART:20200308T070000
END:DAYLIGHT
BEGIN:STANDARD
TZOFFSETFROM:-0400
TZOFFSETTO:-0500
TZNAME:EST
DTSTART:20201101T060000
END:STANDARD
END:VTIMEZONE
BEGIN:VEVENT
DTSTART;TZID=America/New_York:20191108T160000
DTEND;TZID=America/New_York:20191117T170000
DTSTAMP:20260421T051003
CREATED:20191028T221347Z
LAST-MODIFIED:20191028T221347Z
UID:7831-1573228800-1574010000@hvwinemag.com
SUMMARY:NYC Cider Week – Nov 8-17
DESCRIPTION:For the 9th annual Cider Week NYC\, an impressive assemblage of 29 NY cider makers\, dozens of NYC’s finest restaurants\, bars and retail shops are partnering with the New York Cider Association for 10 days of NYC cider culture\, featuring tastings\, dinners\, classes and more. \nA full overview of the festival’s events and happenings can be found on the Cider Week NYC website\, ​CiderWeekNYC.com​.
URL:https://hvwinemag.com/event/nyc-cider-week-nov-8-17/
LOCATION:NY
END:VEVENT
BEGIN:VEVENT
DTSTART;TZID=America/New_York:20191110T120000
DTEND;TZID=America/New_York:20191110T170000
DTSTAMP:20260421T051003
CREATED:20190905T030936Z
LAST-MODIFIED:20190924T020301Z
UID:6902-1573387200-1573405200@hvwinemag.com
SUMMARY:11th Annual Naked Flock Cider Experience
DESCRIPTION:Naked Flock ciders take center stage at this annual event with seasonal ciders and cider-friendly bites.
URL:https://hvwinemag.com/event/11th-annual-naked-flock-cider-experience-2/
LOCATION:Applewood Winery\, 82 Four Corners Rd\, Warwick\, NY\, 10990
END:VEVENT
END:VCALENDAR