BEGIN:VCALENDAR
VERSION:2.0
PRODID:-//Hudson Valley Wine Magazine - ECPv6.15.20//NONSGML v1.0//EN
CALSCALE:GREGORIAN
METHOD:PUBLISH
X-WR-CALNAME:Hudson Valley Wine Magazine
X-ORIGINAL-URL:https://hvwinemag.com
X-WR-CALDESC:Events for Hudson Valley Wine Magazine
REFRESH-INTERVAL;VALUE=DURATION:PT1H
X-Robots-Tag:noindex
X-PUBLISHED-TTL:PT1H
BEGIN:VTIMEZONE
TZID:America/New_York
BEGIN:DAYLIGHT
TZOFFSETFROM:-0500
TZOFFSETTO:-0400
TZNAME:EDT
DTSTART:20180311T070000
END:DAYLIGHT
BEGIN:STANDARD
TZOFFSETFROM:-0400
TZOFFSETTO:-0500
TZNAME:EST
DTSTART:20181104T060000
END:STANDARD
BEGIN:DAYLIGHT
TZOFFSETFROM:-0500
TZOFFSETTO:-0400
TZNAME:EDT
DTSTART:20190310T070000
END:DAYLIGHT
BEGIN:STANDARD
TZOFFSETFROM:-0400
TZOFFSETTO:-0500
TZNAME:EST
DTSTART:20191103T060000
END:STANDARD
BEGIN:DAYLIGHT
TZOFFSETFROM:-0500
TZOFFSETTO:-0400
TZNAME:EDT
DTSTART:20200308T070000
END:DAYLIGHT
BEGIN:STANDARD
TZOFFSETFROM:-0400
TZOFFSETTO:-0500
TZNAME:EST
DTSTART:20201101T060000
END:STANDARD
END:VTIMEZONE
BEGIN:VEVENT
DTSTART;TZID=America/New_York:20191012T120000
DTEND;TZID=America/New_York:20191014T170000
DTSTAMP:20260421T094800
CREATED:20191008T210417Z
LAST-MODIFIED:20191008T232442Z
UID:7433-1570881600-1571072400@hvwinemag.com
SUMMARY:Oktoberfest at Twin Star Orchards!
DESCRIPTION:It’s peak apple-picking season and to celebrate\, there’s a feast of 5 kinds of sausages (Bavarian Weisswurst\, German Bratwurst\, Krainerwurst\, lamb sausage\, jalapeno and pork sausage)\, soft pretzels\, and homemade sauerkraut…as well as wood-fired pizzas and burgers. Enjoy signature Brooklyn Cider House hard ciders along with KCBC’s Zoktoberfest! \nSausages will be available 12 to 5pm\, Saturday\, Sunday\, and Monday. Pizzas and burgers are available 11:30am to 6:30pm\, all weekend. Pricing is $17 for a choice of 2 sausages with a side of sauerkraut\, pretzel\, and corn on the cob\, or $39 for all 5 sausages with a side of sauerkraut\, 2 pretzels\, and 2 cobs of corn. A single serving of sausage with a side of sauerkraut is $7. \nApple picking will be also be available all weekend long. \nPlus\, enjoy live music by Peter Einhorn on Saturday\, Michael Sarian on Sunday\, and NellyBombs on Monday!
URL:https://hvwinemag.com/event/celebrate-oktoberfest-at-twin-star-orchards/
LOCATION:Twin Star Orchards\, 155 N Ohioville Rd\, New Paltz\, New York\, 12561
ATTACH;FMTTYPE=image/jpeg:https://hvwinemag.com/wp-content/uploads/2019/10/BCH-sausages-450x237px-web.jpg
END:VEVENT
END:VCALENDAR